BEGIN:VCALENDAR
VERSION:2.0
PRODID:-//Cowwarr Football Netball Club - ECPv6.15.20//NONSGML v1.0//EN
CALSCALE:GREGORIAN
METHOD:PUBLISH
X-ORIGINAL-URL:https://www.cowwarrfnc.com.au
X-WR-CALDESC:Events for Cowwarr Football Netball Club
REFRESH-INTERVAL;VALUE=DURATION:PT1H
X-Robots-Tag:noindex
X-PUBLISHED-TTL:PT1H
BEGIN:VTIMEZONE
TZID:Australia/Melbourne
BEGIN:STANDARD
TZOFFSETFROM:+1100
TZOFFSETTO:+1000
TZNAME:AEST
DTSTART:20250405T160000
END:STANDARD
BEGIN:DAYLIGHT
TZOFFSETFROM:+1000
TZOFFSETTO:+1100
TZNAME:AEDT
DTSTART:20251004T160000
END:DAYLIGHT
BEGIN:STANDARD
TZOFFSETFROM:+1100
TZOFFSETTO:+1000
TZNAME:AEST
DTSTART:20260404T160000
END:STANDARD
BEGIN:DAYLIGHT
TZOFFSETFROM:+1000
TZOFFSETTO:+1100
TZNAME:AEDT
DTSTART:20261003T160000
END:DAYLIGHT
BEGIN:STANDARD
TZOFFSETFROM:+1100
TZOFFSETTO:+1000
TZNAME:AEST
DTSTART:20270403T160000
END:STANDARD
BEGIN:DAYLIGHT
TZOFFSETFROM:+1000
TZOFFSETTO:+1100
TZNAME:AEDT
DTSTART:20271002T160000
END:DAYLIGHT
END:VTIMEZONE
BEGIN:VEVENT
DTSTART;VALUE=DATE:20260502
DTEND;VALUE=DATE:20260503
DTSTAMP:20260424T224130
CREATED:20260330T052749Z
LAST-MODIFIED:20260330T052805Z
UID:94911-1777680000-1777766399@www.cowwarrfnc.com.au
SUMMARY:2026 Past Players Day
DESCRIPTION:
URL:https://www.cowwarrfnc.com.au/event/2026-past-players-day/
LOCATION:Cowwarr Rec Reserve\, 2-24 Pine Grove Avenue\, Cowwarr\, Victoria\, 3857\, Australia
CATEGORIES:2026 Season
ORGANIZER;CN="Cowwarr Social Club Team":MAILTO:morleyalana1@gmail.com
END:VEVENT
BEGIN:VEVENT
DTSTART;TZID=Australia/Melbourne:20260509T193000
DTEND;TZID=Australia/Melbourne:20260509T230000
DTSTAMP:20260424T224130
CREATED:20260424T043016Z
LAST-MODIFIED:20260424T043146Z
UID:98093-1778355000-1778367600@www.cowwarrfnc.com.au
SUMMARY:Beyond the Farm CFNC Music Festival Function
DESCRIPTION:
URL:https://www.cowwarrfnc.com.au/event/btf-cfnc-musicfestival/
LOCATION:Cowwarr Rec Reserve\, 2-24 Pine Grove Avenue\, Cowwarr\, Victoria\, 3857\, Australia
CATEGORIES:2026 Season
ORGANIZER;CN="Cowwarr Social Club Team":MAILTO:morleyalana1@gmail.com
END:VEVENT
END:VCALENDAR